BEGIN:VCALENDAR
PRODID:-//PUBBLE//agenda//NL
VERSION:2.0
METHOD:PUBLISH
BEGIN:VEVENT
DTSTART:20260413T100454Z
DTEND:20260413T110454Z
DTSTAMP:20260420T024651Z
UID:366a4dde-1ae2-40c0-b72b-4327afa683d5
CREATED:20260420T024651Z
NAME:GAAV Event eilandennieuws.nl
X-WR-CALNAME:GAAV Event
X-ALT-DESC;FMTTYPE=text/html:<a href='/agenda/2026/4/19/gaav-event-26950'>/agenda/2026/4/19/gaav-event-26950</a> || <p><strong>In de Doopsgezinde Gemeente in Ouddorp wordt op zondag 19 april het GAAV Event gehouden. De bijeenkomst begint om 18.30 uur aan de Dorpstienden 3.&nbsp;</strong></p><p>Tijdens de avond spreekt Jefta Bijpost aan de hand van de Galatenbrief. “We nemen onszelf vaak voor om beter ons best te doen in onze relatie met God: na bekering, doop, een ervaring, zonden of als we God een tijd geen aandacht hebben gegeven. Dit is gedoemd om te mislukken”, aldus de Doopsgezinde Gemeente.&nbsp;</p><p>De avond is bedoeld voor iedereen die dit herkent of benieuwd is welke handvatten de Bijbel hiervoor geeft. De GAAV-band verzorgt de muzikale begeleiding.</p><p>Na afloop is er gelegenheid om na te praten onder het genot van koffie, thee of fris. Bezoekers kunnen dan ook anderen ontmoeten en verder praten over het thema van de avond.</p>
DESCRIPTION:<a href='/agenda/2026/4/19/gaav-event-26950'>/agenda/2026/4/19/gaav-event-26950</a> || <p><strong>In de Doopsgezinde Gemeente in Ouddorp wordt op zondag 19 april het GAAV Event gehouden. De bijeenkomst begint om 18.30 uur aan de Dorpstienden 3.&nbsp;</strong></p><p>Tijdens de avond spreekt Jefta Bijpost aan de hand van de Galatenbrief. “We nemen onszelf vaak voor om beter ons best te doen in onze relatie met God: na bekering, doop, een ervaring, zonden of als we God een tijd geen aandacht hebben gegeven. Dit is gedoemd om te mislukken”, aldus de Doopsgezinde Gemeente.&nbsp;</p><p>De avond is bedoeld voor iedereen die dit herkent of benieuwd is welke handvatten de Bijbel hiervoor geeft. De GAAV-band verzorgt de muzikale begeleiding.</p><p>Na afloop is er gelegenheid om na te praten onder het genot van koffie, thee of fris. Bezoekers kunnen dan ook anderen ontmoeten en verder praten over het thema van de avond.</p>
LAST-MODIFIED:20260420T024651Z
LOCATION: Doopsgezinde kerk, Ouddorp | Dorpstienden 3 Ouddorp
SEQUENCE:0
STATUS:CONFIRMED
SUMMARY:GAAV Event
TRANSP:OPAQUE
END:VEVENT
END:VCALENDAR
