BEGIN:VCALENDAR
PRODID:-//PUBBLE//agenda//NL
VERSION:2.0
METHOD:PUBLISH
BEGIN:VEVENT
DTSTART:20260413T095923Z
DTEND:20260418T130000Z
DTSTAMP:20260421T085305Z
UID:6daf25cb-d97a-402f-81c8-2b28d24ebbc8
CREATED:20260421T085305Z
NAME:Open Bedrijvendag Oude-Tonge eilandennieuws.nl
X-WR-CALNAME:Open Bedrijvendag Oude-Tonge
X-ALT-DESC;FMTTYPE=text/html:<a href='/agenda/2026/4/18/open-bedrijvendag-oude-tonge-26948'>/agenda/2026/4/18/open-bedrijvendag-oude-tonge-26948</a> || <h3><strong>Ben je nieuwsgierig naar wat er allemaal gebeurt achter de deuren van bedrijven in je eigen omgeving?</strong></h3><p>Hoe grote ruimtes efficiënt worden ingericht, hoe producten met zorg en vakmanschap tot stand komen, en hoe dagelijkse processen soepel en professioneel verlopen? Tijdens de Bedrijvendag in Oude-Tonge krijg je de kans om dit van dichtbij te ervaren.</p><p>Op deze dag openen verschillende bedrijven hun deuren voor het publiek. Je loopt door werkplaatsen en bedrijfshallen, krijgt uitleg over machines, materialen en technieken, en hoort de verhalen van de mensen die er elke dag werken. Van eerste idee tot eindresultaat: je ziet hoe kennis, ervaring en passie samenkomen in het werk dat hier wordt gedaan.</p><p>De Bedrijvendag is er voor iedereen die nieuwsgierig is. Of je nu geïnteresseerd bent in techniek, productie, logistiek, gezondheid of ondernemerschap — er is volop te ontdekken. Medewerkers en ondernemers nemen je mee in hun dagelijkse praktijk, geven rondleidingen en vertellen waarom ze doen wat ze doen.</p><p>Kom kijken, vragen stellen en laat je verrassen door wat er allemaal gebeurt op het bedrijventerrein van Oude-Tonge. Een laagdrempelige, informatieve en inspirerende dag voor jong en oud.</p><p>Meer informatie is te vinden op <a data-fr-linked="true" href="https://bedrijvendagot.nl/" target="_blank">https://bedrijvendagot.nl/</a>.</p>
DESCRIPTION:<a href='/agenda/2026/4/18/open-bedrijvendag-oude-tonge-26948'>/agenda/2026/4/18/open-bedrijvendag-oude-tonge-26948</a> || <h3><strong>Ben je nieuwsgierig naar wat er allemaal gebeurt achter de deuren van bedrijven in je eigen omgeving?</strong></h3><p>Hoe grote ruimtes efficiënt worden ingericht, hoe producten met zorg en vakmanschap tot stand komen, en hoe dagelijkse processen soepel en professioneel verlopen? Tijdens de Bedrijvendag in Oude-Tonge krijg je de kans om dit van dichtbij te ervaren.</p><p>Op deze dag openen verschillende bedrijven hun deuren voor het publiek. Je loopt door werkplaatsen en bedrijfshallen, krijgt uitleg over machines, materialen en technieken, en hoort de verhalen van de mensen die er elke dag werken. Van eerste idee tot eindresultaat: je ziet hoe kennis, ervaring en passie samenkomen in het werk dat hier wordt gedaan.</p><p>De Bedrijvendag is er voor iedereen die nieuwsgierig is. Of je nu geïnteresseerd bent in techniek, productie, logistiek, gezondheid of ondernemerschap — er is volop te ontdekken. Medewerkers en ondernemers nemen je mee in hun dagelijkse praktijk, geven rondleidingen en vertellen waarom ze doen wat ze doen.</p><p>Kom kijken, vragen stellen en laat je verrassen door wat er allemaal gebeurt op het bedrijventerrein van Oude-Tonge. Een laagdrempelige, informatieve en inspirerende dag voor jong en oud.</p><p>Meer informatie is te vinden op <a data-fr-linked="true" href="https://bedrijvendagot.nl/" target="_blank">https://bedrijvendagot.nl/</a>.</p>
LAST-MODIFIED:20260421T085305Z
LOCATION: Bedrijventerrein Tonniseweg |   Oude-Tonge
SEQUENCE:0
STATUS:CONFIRMED
SUMMARY:Open Bedrijvendag Oude-Tonge
TRANSP:OPAQUE
END:VEVENT
END:VCALENDAR
