BEGIN:VCALENDAR
PRODID:-//PUBBLE//agenda//NL
VERSION:2.0
METHOD:PUBLISH
BEGIN:VEVENT
DTSTART:20260423T170000Z
DTEND:20260423T200000Z
DTSTAMP:20260423T150058Z
UID:67763a95-9c4f-4ee9-a220-885e7bf9d01e
CREATED:20260423T150058Z
NAME:Goeree Creatief in Oostdam eilandennieuws.nl
X-WR-CALNAME:Goeree Creatief in Oostdam
X-ALT-DESC;FMTTYPE=text/html:<a href='/agenda/2026/4/23/goeree-creatief-in-oostdam-26917'>/agenda/2026/4/23/goeree-creatief-in-oostdam-26917</a> || <p>Op donderdag 23 april &nbsp;bent u van harte welkom op onze creatieve avond in verenigingsgebouw Oostdam van 19.00 tot 22.00 uur. De bijdrage voor deze avond is € 5,00 p.p. Iedereen is welkom om mee te doen. Dus loop een keer binnen met uw eigen handwerk en schuif bij ons aan!</p>
DESCRIPTION:<a href='/agenda/2026/4/23/goeree-creatief-in-oostdam-26917'>/agenda/2026/4/23/goeree-creatief-in-oostdam-26917</a> || <p>Op donderdag 23 april &nbsp;bent u van harte welkom op onze creatieve avond in verenigingsgebouw Oostdam van 19.00 tot 22.00 uur. De bijdrage voor deze avond is € 5,00 p.p. Iedereen is welkom om mee te doen. Dus loop een keer binnen met uw eigen handwerk en schuif bij ons aan!</p>
LAST-MODIFIED:20260423T150058Z
LOCATION: Oostdam | Jongkoenstraat 1 Goedereede
SEQUENCE:0
STATUS:CONFIRMED
SUMMARY:Goeree Creatief in Oostdam
TRANSP:OPAQUE
END:VEVENT
END:VCALENDAR
