BEGIN:VCALENDAR
PRODID:-//PUBBLE//agenda//NL
VERSION:2.0
METHOD:PUBLISH
BEGIN:VEVENT
DTSTART:20260422T080000Z
DTEND:20260422T090000Z
DTSTAMP:20260421T143149Z
UID:f9e2e42f-912c-4438-b68d-b8118d05663c
CREATED:20260421T143149Z
NAME:Struikelstenenwandeling eilandennieuws.nl
X-WR-CALNAME:Struikelstenenwandeling
X-ALT-DESC;FMTTYPE=text/html:<a href='/agenda/2026/4/22/struikelstenenwandeling-26758'>/agenda/2026/4/22/struikelstenenwandeling-26758</a> || <p>Struikelstenen herinneren aan de verdwenen Joodse gemeenschap op ons eiland. Stichting Joods Erfgoed Goeree-Overflakkee (JEGO) organiseert in het voorjaar en de zomer een aantal struikelstenenwandelingen. Loop eens met onze gids mee en hoor de verhalen die er bij passen!&nbsp;</p><p>Startlocatie: Joodse begraafplaats aan de Hoflaan (schuin tegenover kruising secr. Nijghstraat) te Middelharnis.</p><p>De wandeling duurt 5 kwartier. Gaarne vooraf reserveren via http://www.joodserfgoedgo.nl/activiteiten Kosten: vijf euro per persoon, te betalen ter plaatse.</p>
DESCRIPTION:<a href='/agenda/2026/4/22/struikelstenenwandeling-26758'>/agenda/2026/4/22/struikelstenenwandeling-26758</a> || <p>Struikelstenen herinneren aan de verdwenen Joodse gemeenschap op ons eiland. Stichting Joods Erfgoed Goeree-Overflakkee (JEGO) organiseert in het voorjaar en de zomer een aantal struikelstenenwandelingen. Loop eens met onze gids mee en hoor de verhalen die er bij passen!&nbsp;</p><p>Startlocatie: Joodse begraafplaats aan de Hoflaan (schuin tegenover kruising secr. Nijghstraat) te Middelharnis.</p><p>De wandeling duurt 5 kwartier. Gaarne vooraf reserveren via http://www.joodserfgoedgo.nl/activiteiten Kosten: vijf euro per persoon, te betalen ter plaatse.</p>
LAST-MODIFIED:20260421T143149Z
LOCATION: Joodse Begraafplaats | Hoflaan  Middelharnis
SEQUENCE:0
STATUS:CONFIRMED
SUMMARY:Struikelstenenwandeling
TRANSP:OPAQUE
END:VEVENT
END:VCALENDAR
