BEGIN:VCALENDAR
PRODID:-//PUBBLE//agenda//NL
VERSION:2.0
METHOD:PUBLISH
BEGIN:VEVENT
DTSTART:20260212T090000Z
DTEND:20260212T100000Z
DTSTAMP:20260421T090544Z
UID:6f26b9b4-d61d-470d-a255-201aa48394f6
CREATED:20260421T090544Z
NAME:MBVO gym eilandennieuws.nl
X-WR-CALNAME:MBVO gym
X-ALT-DESC;FMTTYPE=text/html:<a href='/agenda/2026/2/12/mbvo-gym-26281'>/agenda/2026/2/12/mbvo-gym-26281</a> || <p>MBVO (meer bewegen voor ouderen) gym Dirksland</p><p>Kosten: €12</p><p>Aanmelden: Stichting ZIJN (0187)483366</p>
DESCRIPTION:<a href='/agenda/2026/2/12/mbvo-gym-26281'>/agenda/2026/2/12/mbvo-gym-26281</a> || <p>MBVO (meer bewegen voor ouderen) gym Dirksland</p><p>Kosten: €12</p><p>Aanmelden: Stichting ZIJN (0187)483366</p>
LAST-MODIFIED:20260421T090544Z
LOCATION: Mauritshof | Irenelaan 13 Dirksland
SEQUENCE:0
STATUS:CONFIRMED
SUMMARY:MBVO gym
TRANSP:OPAQUE
END:VEVENT
END:VCALENDAR
